BEGIN:VCALENDAR
VERSION:2.0
PRODID:-//ChamberMaster//Event Calendar 2.0//EN
METHOD:PUBLISH
X-PUBLISHED-TTL:P3D
REFRESH-INTERVAL:P3D
CALSCALE:GREGORIAN
BEGIN:VEVENT
DTSTART:20260306T130000Z
DTEND:20260306T230000Z
X-MICROSOFT-CDO-ALLDAYEVENT:FALSE
SUMMARY:Bass Pro Tour at Lake Whitney March 5th and 6th
DESCRIPTION:The Bass Pro Tour will visit Lake Whitney and Lake Waco for Stage 3 of the 2026 season\, which will take place March 5-8 2026.\n\n\n\nLake Whitney will host the two-day Qualifying Round\, while the Knockout and Championship Rounds will be contested just a few miles south on Lake Waco.\n\n\n\nFor more information on the full tour schedule\, please visit Major League Fishing's new release here https://shorturl.at/vHSQu\n\n\n\nhttps://www.explorehillsborotexas.com/\n\n\n\nIf you need information on visiting Hillsboro or Whitney\, Texas please contact the Hillsboro Chamber at 254-582-2481 or Lake Whitney Chamber at 254-625-2387.
X-ALT-DESC;FMTTYPE=text/html:<div class="xdj266r x14z9mp xat24cr x1lziwak x1vvkbs x126k92a" style="white-space-collapse: preserve\; margin-inline: 0px\; overflow-wrap: break-word\; margin-bottom: 0px\; margin-top: 0px\; font-family: &quot\;Segoe UI Historic&quot\;\, &quot\;Segoe UI&quot\;\, Helvetica\, Arial\, sans-serif\; color: rgb(8\, 8\, 9)\; font-size: 15px\;">\n<div dir="auto" style="font-family: inherit\;">The Bass Pro Tour will visit Lake Whitney and Lake Waco for Stage 3 of the 2026 season\, which will take place March 5-8 2026.</div>\n</div>\n\n<div class="x14z9mp xat24cr x1lziwak x1vvkbs xtlvy1s x126k92a" style="white-space-collapse: preserve\; margin-inline: 0px\; overflow-wrap: break-word\; margin-bottom: 0px\; margin-top: 0.5em\; font-family: &quot\;Segoe UI Historic&quot\;\, &quot\;Segoe UI&quot\;\, Helvetica\, Arial\, sans-serif\; color: rgb(8\, 8\, 9)\; font-size: 15px\;">\n<div dir="auto" style="font-family: inherit\;">Lake Whitney will host the two-day Qualifying Round\, while the Knockout and Championship Rounds will be contested just a few miles south on Lake Waco.</div>\n</div>\n\n<div class="x14z9mp xat24cr x1lziwak x1vvkbs xtlvy1s x126k92a" style="white-space-collapse: preserve\; margin-inline: 0px\; overflow-wrap: break-word\; margin-bottom: 0px\; margin-top: 0.5em\; font-family: &quot\;Segoe UI Historic&quot\;\, &quot\;Segoe UI&quot\;\, Helvetica\, Arial\, sans-serif\; color: rgb(8\, 8\, 9)\; font-size: 15px\;">\n<div dir="auto" style="font-family: inherit\;">For more information on the full tour schedule\, please visit <span class="html-span xdj266r x14z9mp xat24cr x1lziwak xexx8yu xyri2b x18d9i69 x1c1uobl x1hl2dhg x16tdsg8 x1vvkbs" style="margin-inline: 0px\; text-align: inherit\; padding-inline: 0px\; overflow-wrap: break-word\; padding-bottom: 0px\; margin-bottom: 0px\; margin-top: 0px\; padding-top: 0px\; font-family: inherit\;"><a attributionsrc="/privacy_sandbox/comet/register/source/?xt=AZZJWOBXqWjDPp-XXNhE3i32xu3Azu-ezPBnPwptTch9sDUTHPw-xfkt_TgFRATrky10gKgJvovbPDNtb9x84RX6HhY5N_y4eyo0AZJnAe487RPbVPns3k1W8IJ1ePSzYO0n9sJJjrAiT0eiqJUaovKxvDuHenbD3898NMCk6Yw35x1vNIYHkHiodMEhZAPQS7J9LbHr1Zl6GMm7C6kxwb4CUHkTPskl25Hp0t7wDAwElSRVYyviLmWPRR3bMnYvNJxUYtCvYPg0rG4Aau5nk6x9ahYfOnB21CTkR1LKMHRs58islX-lLJa9BwqPA7Rn2G_JovWUkhAHhtfeALDskXIrWbzeodT-BkQxTAOfeDPiDgbn5ezVMGvzJJKWRK6SkAPcSrO_D4OAyeR0OnJODaXY5qL69lE_Js-jUeea-wKNI3TLXNBTGYbqHPo2F2Uus354IlF8jmTf5KPZKklE9Fydwpic9MqrAiQ95EaGhEjqlr4-SSe1gYWZyaA6GnQsL8MfzBv_OEQxSTaOc3xnUw3WZgWAggCUtEIQsvuh958RlE8Xomm23bYa_s1gtjeFEc_NLUBESUBh2zB7sIkSmm1qcnToWUTXApsQShrzOW8IfDxVQbXoGahPzfnc6DLT6jpPFdKyozYK60FK2flYUW-Z-omVGSqB8I8Piqg3YcsLdT2DaXn0jkSrn5mzwCHlVlkasER2EwDTSaYY2r2sQkLpzXRCkxTxpF0tca3jIbvb6-jgNeSvIh-hHd3a3eehaP6-Uut03wmjE6BqfL2LSAJY5H1QC5EE54TMPkx_MAJZBKHnZwoqL1HEBBOiJMK6pG6l7gQPipjazbaqlabzWOChna1OqQv_v02zb_9jSJH0gSmVI960-JLqx60hq7Hq-KFFSmArNe2SEdZBXDVm-MnSeVEF4INWXqyfuUrX4o-tXHlKDRcJ2Ipjqvj9PvEXAQATEhYvSZvvXW1jrImCYhJeVOkNzblhQSCzO4rVdYV2kJHN02zRppAE8ozefDmL-N94CeaQZNe48gbXUpqz2gQdDR9VMWBknqM0Of3Ty7R0WnusPgc2ePpfi5mXvDXl7wTTpPKub4yvaB-pXBY_bAg8fL7djXVpW068pAGDmyh0s7FQuDlwG4JrOYonDNKBtKcTSU3MA0j5ammto_3MxYoz9rwmF-uxkfG_OBff40MBqQ11Hc5bvhVyW3L7G6JfU775heMtvHONjmC1yLMh8D0AjYHaYf5igB5ZTl-esX1E_lLFX2oxdR9Qn8fkRyBBwRv7KBAOPR8fDqno4T1c3i1G7lpy44E8Fx1lbE7xaUQDCXTb-FwDEBQwjDcubl1KDXt0gfOg1Z_8rMHiwPTQCDsbRkRGWHPSsQ5s5sJxJC33Ew" class="x1i10hfl xjbqb8w x1ejq31n x18oe1m7 x1sy0etr xstzfhl x972fbf x10w94by x1qhh985 x14e42zd x9f619 x1ypdohk xt0psk2 x3ct3a4 xdj266r x14z9mp xat24cr x1lziwak xexx8yu xyri2b x18d9i69 x1c1uobl x16tdsg8 x1hl2dhg xggy1nq x1a2a7pz xkrqix3 x1sur9pj x1fey0fg x1s688f" href="https://www.facebook.com/MajorLeagueFishing?__cft__[0]=AZZ5cHqDUZIXXPzVVEu5EEi4kAJdNYtzZvMwWGXILT9MCS-VID-UMMHvpSR5wNxG6z8Fy80UkoxtJqs-t9dAMxS6WjTY4tAFpwvcNh5FeyW1rm90nkPDGJI0qHNK6ItMSCSFwK3RDp5ZlpoHFGJtUdZ0&amp\;__tn__=-]K-R" role="link" style="color: rgb(0\, 100\, 209)\; cursor: pointer\; text-decoration-line: none\; outline: none\; border-inline-width: 0px\; margin-inline: 0px\; text-align: inherit\; border-inline-style: none\; padding-inline: 0px\; -webkit-tap-highlight-color: transparent\; font-weight: 600\; list-style-type: none\; box-sizing: border-box\; touch-action: manipulation\; background-color: transparent\; display: inline\; padding-bottom: 0px\; border-top-style: none\; border-bottom-width: 0px\; border-bottom-style: none\; border-top-width: 0px\; margin-bottom: 0px\; margin-top: 0px\; padding-top: 0px\; font-family: inherit\;" tabindex="0"><span class="xt0psk2" style="display: inline\; font-family: inherit\;">Major League Fishing</span></a></span>&#39\;s new release here <span class="html-span xdj266r x14z9mp xat24cr x1lziwak xexx8yu xyri2b x18d9i69 x1c1uobl x1hl2dhg x16tdsg8 x1vvkbs" style="margin-inline: 0px\; text-align: inherit\; padding-inline: 0px\; overflow-wrap: break-word\; padding-bottom: 0px\; margin-bottom: 0px\; margin-top: 0px\; padding-top: 0px\; font-family: inherit\;"><a attributionsrc="/privacy_sandbox/comet/register/source/?xt=AZZJWOBXqWjDPp-XXNhE3i32xu3Azu-ezPBnPwptTch9sDUTHPw-xfkt_TgFRATrky10gKgJvovbPDNtb9x84RX6HhY5N_y4eyo0AZJnAe487RPbVPns3k1W8IJ1ePSzYO0n9sJJjrAiT0eiqJUaovKxvDuHenbD3898NMCk6Yw35x1vNIYHkHiodMEhZAPQS7J9LbHr1Zl6GMm7C6kxwb4CUHkTPskl25Hp0t7wDAwElSRVYyviLmWPRR3bMnYvNJxUYtCvYPg0rG4Aau5nk6x9ahYfOnB21CTkR1LKMHRs58islX-lLJa9BwqPA7Rn2G_JovWUkhAHhtfeALDskXIrWbzeodT-BkQxTAOfeDPiDgbn5ezVMGvzJJKWRK6SkAPcSrO_D4OAyeR0OnJODaXY5qL69lE_Js-jUeea-wKNI3TLXNBTGYbqHPo2F2Uus354IlF8jmTf5KPZKklE9Fydwpic9MqrAiQ95EaGhEjqlr4-SSe1gYWZyaA6GnQsL8MfzBv_OEQxSTaOc3xnUw3WZgWAggCUtEIQsvuh958RlE8Xomm23bYa_s1gtjeFEc_NLUBESUBh2zB7sIkSmm1qcnToWUTXApsQShrzOW8IfDxVQbXoGahPzfnc6DLT6jpPFdKyozYK60FK2flYUW-Z-omVGSqB8I8Piqg3YcsLdT2DaXn0jkSrn5mzwCHlVlkasER2EwDTSaYY2r2sQkLpzXRCkxTxpF0tca3jIbvb6-jgNeSvIh-hHd3a3eehaP6-Uut03wmjE6BqfL2LSAJY5H1QC5EE54TMPkx_MAJZBKHnZwoqL1HEBBOiJMK6pG6l7gQPipjazbaqlabzWOChna1OqQv_v02zb_9jSJH0gSmVI960-JLqx60hq7Hq-KFFSmArNe2SEdZBXDVm-MnSeVEF4INWXqyfuUrX4o-tXHlKDRcJ2Ipjqvj9PvEXAQATEhYvSZvvXW1jrImCYhJeVOkNzblhQSCzO4rVdYV2kJHN02zRppAE8ozefDmL-N94CeaQZNe48gbXUpqz2gQdDR9VMWBknqM0Of3Ty7R0WnusPgc2ePpfi5mXvDXl7wTTpPKub4yvaB-pXBY_bAg8fL7djXVpW068pAGDmyh0s7FQuDlwG4JrOYonDNKBtKcTSU3MA0j5ammto_3MxYoz9rwmF-uxkfG_OBff40MBqQ11Hc5bvhVyW3L7G6JfU775heMtvHONjmC1yLMh8D0AjYHaYf5igB5ZTl-esX1E_lLFX2oxdR9Qn8fkRyBBwRv7KBAOPR8fDqno4T1c3i1G7lpy44E8Fx1lbE7xaUQDCXTb-FwDEBQwjDcubl1KDXt0gfOg1Z_8rMHiwPTQCDsbRkRGWHPSsQ5s5sJxJC33Ew" class="x1i10hfl xjbqb8w x1ejq31n x18oe1m7 x1sy0etr xstzfhl x972fbf x10w94by x1qhh985 x14e42zd x9f619 x1ypdohk xt0psk2 x3ct3a4 xdj266r x14z9mp xat24cr x1lziwak xexx8yu xyri2b x18d9i69 x1c1uobl x16tdsg8 x1hl2dhg xggy1nq x1a2a7pz xkrqix3 x1sur9pj x1fey0fg x1s688f" href="https://shorturl.at/vHSQu?fbclid=IwZXh0bgNhZW0CMTAAYnJpZBExMzV4NDlVaHNpRlphWGZ2VXNydGMGYXBwX2lkEDIyMjAzOTE3ODgyMDA4OTIAAR5X5VtlQOIvBGTaMFv8nwbBJ1xLrWysKo9v2MaUhOxOmmZQns15_Sha5D3ylA_aem_HmSeF8g4CmAUm__3LCvUgg" rel="nofollow noreferrer" role="link" style="color: rgb(0\, 100\, 209)\; cursor: pointer\; text-decoration-line: none\; outline: none\; border-inline-width: 0px\; margin-inline: 0px\; text-align: inherit\; border-inline-style: none\; padding-inline: 0px\; -webkit-tap-highlight-color: transparent\; font-weight: 600\; list-style-type: none\; box-sizing: border-box\; touch-action: manipulation\; background-color: transparent\; display: inline\; padding-bottom: 0px\; border-top-style: none\; border-bottom-width: 0px\; border-bottom-style: none\; border-top-width: 0px\; margin-bottom: 0px\; margin-top: 0px\; padding-top: 0px\; font-family: inherit\;" tabindex="0" target="_blank">https://shorturl.at/vHSQu</a></span></div>\n</div>\n\n<div class="x14z9mp xat24cr x1lziwak x1vvkbs xtlvy1s x126k92a" style="white-space-collapse: preserve\; margin-inline: 0px\; overflow-wrap: break-word\; margin-bottom: 0px\; margin-top: 0.5em\; font-family: &quot\;Segoe UI Historic&quot\;\, &quot\;Segoe UI&quot\;\, Helvetica\, Arial\, sans-serif\; color: rgb(8\, 8\, 9)\; font-size: 15px\;">\n<div dir="auto" style="font-family: inherit\;"><span class="html-span xdj266r x14z9mp xat24cr x1lziwak xexx8yu xyri2b x18d9i69 x1c1uobl x1hl2dhg x16tdsg8 x1vvkbs" style="margin-inline: 0px\; text-align: inherit\; padding-inline: 0px\; overflow-wrap: break-word\; padding-bottom: 0px\; margin-bottom: 0px\; margin-top: 0px\; padding-top: 0px\; font-family: inherit\;"><a attributionsrc="/privacy_sandbox/comet/register/source/?xt=AZZJWOBXqWjDPp-XXNhE3i32xu3Azu-ezPBnPwptTch9sDUTHPw-xfkt_TgFRATrky10gKgJvovbPDNtb9x84RX6HhY5N_y4eyo0AZJnAe487RPbVPns3k1W8IJ1ePSzYO0n9sJJjrAiT0eiqJUaovKxvDuHenbD3898NMCk6Yw35x1vNIYHkHiodMEhZAPQS7J9LbHr1Zl6GMm7C6kxwb4CUHkTPskl25Hp0t7wDAwElSRVYyviLmWPRR3bMnYvNJxUYtCvYPg0rG4Aau5nk6x9ahYfOnB21CTkR1LKMHRs58islX-lLJa9BwqPA7Rn2G_JovWUkhAHhtfeALDskXIrWbzeodT-BkQxTAOfeDPiDgbn5ezVMGvzJJKWRK6SkAPcSrO_D4OAyeR0OnJODaXY5qL69lE_Js-jUeea-wKNI3TLXNBTGYbqHPo2F2Uus354IlF8jmTf5KPZKklE9Fydwpic9MqrAiQ95EaGhEjqlr4-SSe1gYWZyaA6GnQsL8MfzBv_OEQxSTaOc3xnUw3WZgWAggCUtEIQsvuh958RlE8Xomm23bYa_s1gtjeFEc_NLUBESUBh2zB7sIkSmm1qcnToWUTXApsQShrzOW8IfDxVQbXoGahPzfnc6DLT6jpPFdKyozYK60FK2flYUW-Z-omVGSqB8I8Piqg3YcsLdT2DaXn0jkSrn5mzwCHlVlkasER2EwDTSaYY2r2sQkLpzXRCkxTxpF0tca3jIbvb6-jgNeSvIh-hHd3a3eehaP6-Uut03wmjE6BqfL2LSAJY5H1QC5EE54TMPkx_MAJZBKHnZwoqL1HEBBOiJMK6pG6l7gQPipjazbaqlabzWOChna1OqQv_v02zb_9jSJH0gSmVI960-JLqx60hq7Hq-KFFSmArNe2SEdZBXDVm-MnSeVEF4INWXqyfuUrX4o-tXHlKDRcJ2Ipjqvj9PvEXAQATEhYvSZvvXW1jrImCYhJeVOkNzblhQSCzO4rVdYV2kJHN02zRppAE8ozefDmL-N94CeaQZNe48gbXUpqz2gQdDR9VMWBknqM0Of3Ty7R0WnusPgc2ePpfi5mXvDXl7wTTpPKub4yvaB-pXBY_bAg8fL7djXVpW068pAGDmyh0s7FQuDlwG4JrOYonDNKBtKcTSU3MA0j5ammto_3MxYoz9rwmF-uxkfG_OBff40MBqQ11Hc5bvhVyW3L7G6JfU775heMtvHONjmC1yLMh8D0AjYHaYf5igB5ZTl-esX1E_lLFX2oxdR9Qn8fkRyBBwRv7KBAOPR8fDqno4T1c3i1G7lpy44E8Fx1lbE7xaUQDCXTb-FwDEBQwjDcubl1KDXt0gfOg1Z_8rMHiwPTQCDsbRkRGWHPSsQ5s5sJxJC33Ew" class="x1i10hfl xjbqb8w x1ejq31n x18oe1m7 x1sy0etr xstzfhl x972fbf x10w94by x1qhh985 x14e42zd x9f619 x1ypdohk xt0psk2 x3ct3a4 xdj266r x14z9mp xat24cr x1lziwak xexx8yu xyri2b x18d9i69 x1c1uobl x16tdsg8 x1hl2dhg xggy1nq x1a2a7pz xkrqix3 x1sur9pj x1fey0fg x1s688f" href="https://l.facebook.com/l.php?u=https%3A%2F%2Fwww.explorehillsborotexas.com%2F%3Ffbclid%3DIwZXh0bgNhZW0CMTAAYnJpZBExMzV4NDlVaHNpRlphWGZ2VXNydGMGYXBwX2lkEDIyMjAzOTE3ODgyMDA4OTIAAR7FJ9h8naOW7UaCxsuhwlHztaxgg4EpFkZMbOeK1BBr7bH65046Yi6BllhQFQ_aem_Kse0hCRGZpsq8cEV9tCnlg&amp\;h=AT4NaP2a7UIUvIKqo5Ou3dodaRprX2tixDuQMok3IjTy_pH2dbmAFtARl1CrqjM0sWJRVurSd3DvAC_o7aIlr6mhX2CbbXrTSy5UHCUotUMlhfA7pSlSexnBrWTDSQzUpH9KkspJoBk5lA&amp\;__tn__=-UK-R&amp\;c[0]=AT7lCuh_Nyj--x8n1EbeC2_1luPAKpMBeJpCi4Gm47E3aDKiyio2THWPUAUNoW0EdvJnwyVHp-22bYkFREVVaqHjPLae0X-pJflb5S4Rwk_iXiz77BUCqDBhjdZmdwIsiWZsHVOFlyyGQwW4SQ0h0E5zcZukAkG14uHN2SE29g" rel="nofollow noreferrer" role="link" style="color: rgb(0\, 100\, 209)\; cursor: pointer\; text-decoration-line: none\; outline: none\; border-inline-width: 0px\; margin-inline: 0px\; text-align: inherit\; border-inline-style: none\; padding-inline: 0px\; -webkit-tap-highlight-color: transparent\; font-weight: 600\; list-style-type: none\; box-sizing: border-box\; touch-action: manipulation\; background-color: transparent\; display: inline\; padding-bottom: 0px\; border-top-style: none\; border-bottom-width: 0px\; border-bottom-style: none\; border-top-width: 0px\; margin-bottom: 0px\; margin-top: 0px\; padding-top: 0px\; font-family: inherit\;" tabindex="0" target="_blank">https://www.explorehillsborotexas.com/</a></span></div>\n</div>\n\n<div class="x14z9mp xat24cr x1lziwak x1vvkbs xtlvy1s x126k92a" style="white-space-collapse: preserve\; margin-inline: 0px\; overflow-wrap: break-word\; margin-bottom: 0px\; margin-top: 0.5em\; font-family: &quot\;Segoe UI Historic&quot\;\, &quot\;Segoe UI&quot\;\, Helvetica\, Arial\, sans-serif\; color: rgb(8\, 8\, 9)\; font-size: 15px\;">\n<div dir="auto" style="font-family: inherit\;">If you need information on visiting Hillsboro or Whitney\, Texas please contact the Hillsboro Chamber at 254-582-2481 or Lake Whitney Chamber at 254-625-2387.</div>\n</div>\n
LOCATION:
UID:e.1103.19616
SEQUENCE:3
DTSTAMP:20260419T154721Z
URL:https://business.hillsborochamber.org/events/details/bass-pro-tour-at-lake-whitney-march-5th-and-6th-03-06-2026-19616
END:VEVENT

END:VCALENDAR
