BEGIN:VCALENDAR
VERSION:2.0
PRODID:-//ChamberMaster//Event Calendar 2.0//EN
METHOD:PUBLISH
X-PUBLISHED-TTL:P3D
REFRESH-INTERVAL:P3D
CALSCALE:GREGORIAN
BEGIN:VEVENT
DTSTART:20260417T140000Z
DTEND:20260417T180000Z
X-MICROSOFT-CDO-ALLDAYEVENT:FALSE
SUMMARY:Bobcat Clay Shoot 2026
DESCRIPTION:The Bobcat Clay Shoot is an annual Sporting Clay Charity Tournament Benefiting The Boys and Girls Club of Hill County.  Stay tuned for more information.  To contact the organizers about sponsorships or company participation\, please call 254-707-7337
X-ALT-DESC;FMTTYPE=text/html:The Bobcat Clay Shoot is an annual Sporting Clay Charity Tournament Benefiting The Boys and Girls Club of Hill County.&nbsp\; Stay tuned for more information.&nbsp\; To contact the organizers about sponsorships or company participation\, please call&nbsp\;254-707-7337
LOCATION:
UID:e.1103.19157
SEQUENCE:3
DTSTAMP:20260421T100137Z
URL:https://business.hillsborochamber.org/events/details/bobcat-clay-shoot-19157
END:VEVENT

END:VCALENDAR
