BEGIN:VCALENDAR
VERSION:2.0
PRODID:-//ChamberMaster//Event Calendar 2.0//EN
METHOD:PUBLISH
X-PUBLISHED-TTL:P3D
REFRESH-INTERVAL:P3D
CALSCALE:GREGORIAN
BEGIN:VEVENT
DTSTART:20280126T160000Z
DTEND:20280126T170000Z
X-MICROSOFT-CDO-ALLDAYEVENT:FALSE
SUMMARY:Books and Babies at Hillsboro City Library
DESCRIPTION:Bring your toddlers to Books and Babies at the Hillsboro City Library.\n\n10 am to 11 am.  This event occurs weekly on Wednesdays\, and promotes early literacy.\n\nFor more information\, please contact the Hillsboro City Library at  (254) 582-7385 or email hillsborolibrary@hillsborotx.org
X-ALT-DESC;FMTTYPE=text/html:<span style="font-size:14px\;">Bring your toddlers to Books and Babies at the Hillsboro City Library.<br />\n10 am to 11 am.&nbsp\; This event occurs weekly on Wednesdays\, and promotes early literacy.<br />\nFor more information\, please contact the Hillsboro City Library at&nbsp\;&nbsp\;<span style="background-color: transparent\; color: rgb(0\, 0\, 0)\; text-align: center\;">(254) 582-7385 or email&nbsp\;</span><a class="wixui-rich-text__text" data-auto-recognition="true" href="mailto:hillsborolibrary@hillsborotx.org" style="background: transparent\; font-size: 16px\; text-align: center\; border: 0px\; margin: 0px\; outline: 0px\; padding: 0px\; vertical-align: baseline\; cursor: pointer\; text-decoration-line: none\; -webkit-tap-highlight-color: rgba(0\, 0\, 0\, 0)\; color: inherit\;">hillsborolibrary@hillsborotx.org</a></span><br />\n&nbsp\;
LOCATION:
UID:e.1103.12653
SEQUENCE:3
DTSTAMP:20260421T145003Z
URL:https://business.hillsborochamber.org/events/details/books-and-babies-at-hillsboro-city-library-01-26-2028-12653
END:VEVENT

END:VCALENDAR
