BEGIN:VCALENDAR
VERSION:2.0
PRODID:-//ChamberMaster//Event Calendar 2.0//EN
METHOD:PUBLISH
X-PUBLISHED-TTL:P3D
REFRESH-INTERVAL:P3D
CALSCALE:GREGORIAN
BEGIN:VEVENT
DTSTART:20250719T150000Z
DTEND:20250719T210000Z
X-MICROSOFT-CDO-ALLDAYEVENT:FALSE
SUMMARY:Christmas in July Cookie Exchange
DESCRIPTION:Christmas in July At The General Store. Bring a dozen cookies and the recipe. We will make copies at the store. Must register for the Cookie Exchange.
X-ALT-DESC;FMTTYPE=text/html:Christmas in July At The General Store. Bring a dozen cookies and the recipe. We will make copies at the store. Must register for the Cookie Exchange.
LOCATION:Hill's General Store 209 NE 4th St Hubbard Tx
UID:e.1103.14903
SEQUENCE:3
DTSTAMP:20260422T062134Z
URL:https://business.hillsborochamber.org/events/details/christmas-in-july-cookie-exchange-14903
END:VEVENT

END:VCALENDAR
