BEGIN:VCALENDAR
VERSION:2.0
PRODID:-//ChamberMaster//Event Calendar 2.0//EN
METHOD:PUBLISH
X-PUBLISHED-TTL:P3D
REFRESH-INTERVAL:P3D
CALSCALE:GREGORIAN
BEGIN:VEVENT
DTSTART:20260421T150000Z
DTEND:20260421T190000Z
X-MICROSOFT-CDO-ALLDAYEVENT:FALSE
SUMMARY:Downtown Hillsboro Lofts Open House - 1881 Lifts
DESCRIPTION:er wanted to peek inside the apartments above Overflow Coffee Co? Now is your chance! Katie Whitehouse will be hosting on Saturday 10-2. We have three one bedrooms available. Stop in and tell your friends that we have three one bedrooms available for rent ranging from $1100-$1750. Adult living. No pets
X-ALT-DESC;FMTTYPE=text/html:<span style="color: rgb(8\, 8\, 9)\; font-family: &quot\;Segoe UI Historic&quot\;\, &quot\;Segoe UI&quot\;\, Helvetica\, Arial\, sans-serif\; font-size: 15px\;">er wanted to peek inside the apartments above Overflow Coffee Co? Now is your chance! Katie Whitehouse will be hosting on Saturday 10-2. We have three one bedrooms available. Stop in and tell your friends that we have three one bedrooms available for rent ranging from $1100-$1750. Adult living. No pets</span>
LOCATION:
UID:e.1103.20023
SEQUENCE:3
DTSTAMP:20260421T143433Z
URL:https://business.hillsborochamber.org/events/details/downtown-hillsboro-lofts-open-house-1881-lifts-20023
END:VEVENT

END:VCALENDAR
