BEGIN:VCALENDAR
VERSION:2.0
PRODID:-//ChamberMaster//Event Calendar 2.0//EN
METHOD:PUBLISH
X-PUBLISHED-TTL:P3D
REFRESH-INTERVAL:P3D
CALSCALE:GREGORIAN
BEGIN:VEVENT
DTSTART:20260312T003000Z
DTEND:20260312T013000Z
X-MICROSOFT-CDO-ALLDAYEVENT:FALSE
SUMMARY:Hill College Players Musical - Ride the Cyclone
DESCRIPTION:March 11 - 13. All performances are at 7:30 p.m.\n\nHill College Performing Arts Center 112 Lamar Dr.\n\n\n\nThe Hill College Players will present the musical "Ride the Cyclone" on March 11 13\, 2026\, at 7:30 p.m. at the Hill College Performing Arts Center in Hillsboro\, TX. The show\, which follows six choir members in limbo\, features a mix of musical styles and dark comedy\, promising to be an engaging live performance\n\n\n\nThis production is part of the Hill College Performing Arts season. The show\, written by Jacob Richmond and Brooke Maxwell\, focuses on the stories of six teenagers after a fatal roller coaster accident.\n\n\n\nIn this hilarious and outlandish story\, the lives of six teenagers from a Canadian chamber choir are cut short in a freak accident aboard a roller coaster. When they awake in limbo\, a mechanical fortune teller invites each to tell a story to win a prize like no other   the chance to return to life. Through a wondrously funny and touching series of songs\, the teen contestants argue that they should be the ones to be saved. Told with moving insights into adolescence as well as dark comedic style benefiting the outrageousness of its premise\, Ride The Cyclone is a memorable and original musical. What makes a life well-lived? Who deserves to have a second chance? Which are the memories that we will treasure? All these questions and more are answered in Jacob Richmond and Brooke Maxwell's stunning work.
X-ALT-DESC;FMTTYPE=text/html:March 11 - 13. All performances are at 7:30 p.m.<br />\nHill College Performing Arts Center 112 Lamar Dr.<br />\n<br />\nThe&nbsp\;<a href="https://www.hillcollege.edu/Events/2026/03/Hill%20College%20Players%20Musical%20-%20Ride%20the%20Cyclone.html" ping="/url?sa=t&amp\;source=web&amp\;rct=j&amp\;url=https://www.hillcollege.edu/Events/2026/03/Hill%2520College%2520Players%2520Musical%2520-%2520Ride%2520the%2520Cyclone.html&amp\;ved=2ahUKEwiz2oyBp_CSAxW9nWoFHejjLiQQy_kOegQIARAB&amp\;opi=89978449" rel="noopener" target="_blank">Hill College Players</a>&nbsp\;will present the musical &quot\;Ride the Cyclone&quot\; on&nbsp\;<mark jscontroller="DfH0l" jsuid="YcN2rf_c">March 11&ndash\;13\, 2026\, at 7:30 p.m. at the Hill College Performing Arts Center in Hillsboro\, TX</mark>. The show\, which follows six choir members in limbo\, features a mix of musical styles and dark comedy\, promising to be an engaging live performance<br />\n<br />\nThis production is part of the Hill College Performing Arts season. The show\, written by Jacob Richmond and Brooke Maxwell\, focuses on the stories of six teenagers after a fatal roller coaster accident.<br />\n<br />\nIn this hilarious and outlandish story\, the lives of six teenagers from a Canadian chamber choir are cut short in a freak accident aboard a roller coaster. When they awake in limbo\, a mechanical fortune teller invites each to tell a story to win a prize like no other &ndash\; the chance to return to life. Through a wondrously funny and touching series of songs\, the teen contestants argue that they should be the ones to be saved. Told with moving insights into adolescence as well as dark comedic style benefiting the outrageousness of its premise\,&nbsp\;Ride The Cyclone&nbsp\;is a memorable and original musical. What makes a life well-lived? Who deserves to have a second chance? Which are the memories that we will treasure? All these questions and more are answered in Jacob Richmond and Brooke Maxwell&rsquo\;s stunning work.&nbsp\;
LOCATION:
UID:e.1103.16998
SEQUENCE:3
DTSTAMP:20260419T154506Z
URL:https://business.hillsborochamber.org/events/details/hill-college-players-musical-ride-the-cyclone-16998
END:VEVENT

END:VCALENDAR
