BEGIN:VCALENDAR
VERSION:2.0
PRODID:-//ChamberMaster//Event Calendar 2.0//EN
METHOD:PUBLISH
X-PUBLISHED-TTL:P3D
REFRESH-INTERVAL:P3D
CALSCALE:GREGORIAN
BEGIN:VEVENT
DTSTART:20260415T003000Z
DTEND:20260415T020000Z
X-MICROSOFT-CDO-ALLDAYEVENT:FALSE
SUMMARY:Hill College Spring Band Concert
DESCRIPTION:Hill College Spring Band and Choir Concerts!  \n\nHill College Performing Arts Center 112 Lamar Dr.\n\nSpring Band Concert  April 14 at 7:30 p.m.\n\nSpring Choir Concert  April 21 at 7:30 p.m.\n\n\n\nWe invite you to visit us\, attend our wide array of performing and speaker events throughout each year\, and see for yourself that Performing Arts at Hill College is exciting\, enlightening and enriching!
X-ALT-DESC;FMTTYPE=text/html:<strong>Hill College Spring Band and Choir Concerts!&nbsp\;&nbsp\;</strong><br />\nHill College Performing Arts Center 112 Lamar Dr.<br />\nSpring Band Concert&nbsp\; April 14 at 7:30 p.m.<br />\nSpring Choir Concert&nbsp\;&nbsp\;April 21 at 7:30 p.m.<br />\n<br />\nWe invite you to visit us\, attend our wide array of performing and speaker events throughout each year\, and see for yourself that Performing Arts at Hill College is exciting\, enlightening and enriching!
LOCATION:
UID:e.1103.17000
SEQUENCE:3
DTSTAMP:20260421T100142Z
URL:https://business.hillsborochamber.org/events/details/hill-college-spring-band-concert-17000
END:VEVENT

END:VCALENDAR
