BEGIN:VCALENDAR
VERSION:2.0
PRODID:-//ChamberMaster//Event Calendar 2.0//EN
METHOD:PUBLISH
X-PUBLISHED-TTL:P3D
REFRESH-INTERVAL:P3D
CALSCALE:GREGORIAN
BEGIN:VEVENT
DTSTART:20260620T140000Z
DTEND:20260620T180000Z
X-MICROSOFT-CDO-ALLDAYEVENT:FALSE
SUMMARY:Hill County Farm Stall Market
DESCRIPTION:Come shop local this Saturday in Hillsboro at the Pavilion! Pasture eggs\, pasture raised poultry\, breads\, sourdough and fresh milled\, tamales\, homemade soaps\, lotion bars\, salsas\, cinnamon rolls\, whipped tallow\, deodorant\, baked goods\, homemade jewelry\, resin items and so much more!
X-ALT-DESC;FMTTYPE=text/html:<span style="color: rgb(8\, 8\, 9)\; font-family: &quot\;Segoe UI Historic&quot\;\, &quot\;Segoe UI&quot\;\, Helvetica\, Arial\, sans-serif\; font-size: 15px\;">Come shop local this Saturday in Hillsboro at the Pavilion! Pasture eggs\, pasture raised poultry\, breads\, sourdough and fresh milled\, tamales\, homemade soaps\, lotion bars\, salsas\, cinnamon rolls\, whipped tallow\, deodorant\, baked goods\, homemade jewelry\, resin items and so much more!</span>
LOCATION:325 S Waco Hill Pavillion-Corner of Waco and Corsicana Highway i
UID:e.1103.19610
SEQUENCE:3
DTSTAMP:20260419T203403Z
URL:https://business.hillsborochamber.org/events/details/hill-county-farm-stall-market-06-20-2026-19610
END:VEVENT

END:VCALENDAR
