BEGIN:VCALENDAR
VERSION:2.0
PRODID:-//ChamberMaster//Event Calendar 2.0//EN
METHOD:PUBLISH
X-PUBLISHED-TTL:P3D
REFRESH-INTERVAL:P3D
CALSCALE:GREGORIAN
BEGIN:VEVENT
DTSTART:20281106T160000Z
DTEND:20281106T170000Z
X-MICROSOFT-CDO-ALLDAYEVENT:FALSE
SUMMARY:Knit & Crochet Group at Hillsboro City Library
DESCRIPTION:Knit and Crochet Group at the Hillsboro City Library\n\nThe 1st Monday's group meets at 10-11 am\n\nThe 3rd Monday group meets at 5-6 pm\n\n\n\nPlease feel free to join us for both groups\, or come to the one that best suits your schedule.\n\nWe will have an expert on hand to offer instruction\, if needed!\n\n\n\nWhether you're a pro or novice\, all skill levels are welcome! For more information\, contact us at hillsborolibrary@hillsborotx.org or 254-582-7385.
X-ALT-DESC;FMTTYPE=text/html:<div class="xdj266r x11i5rnm xat24cr x1mh8g0r x1vvkbs x126k92a" style="margin: 0px\; overflow-wrap: break-word\; white-space-collapse: preserve\; font-family: Roboto\, Helvetica\, Arial\, sans-serif\; color: rgb(5\, 5\, 5)\; font-size: 15px\;">\n<div dir="auto" style="font-family: inherit\;">\n<div class="xdj266r x11i5rnm xat24cr x1mh8g0r x1vvkbs x126k92a" style="white-space-collapse: preserve\; margin: 0px\; overflow-wrap: break-word\; font-family: Roboto\, Helvetica\, Arial\, sans-serif\; color: rgb(5\, 5\, 5)\; font-size: 15px\;">\n<div dir="auto" style="font-family: inherit\;"><strong>Knit and Crochet Group at the Hillsboro City Library<br />\nThe 1st Monday&#39\;s group meets at 10-11 am<br />\nThe 3rd Monday group meets at 5-6 pm</strong></div>\n</div>\n\n<div class="x11i5rnm xat24cr x1mh8g0r x1vvkbs xtlvy1s x126k92a" style="white-space-collapse: preserve\; margin: 0.5em 0px 0px\; overflow-wrap: break-word\; font-family: Roboto\, Helvetica\, Arial\, sans-serif\; color: rgb(5\, 5\, 5)\; font-size: 15px\;">\n<div dir="auto" style="font-family: inherit\;">Please feel free to join us for both groups\, or come to the one that best suits your schedule.<br />\nWe will have an expert on hand to offer instruction\, if needed!<br />\n<br />\nWhether you&#39\;re a pro or novice\, all skill levels are welcome! For more information\, contact us at hillsborolibrary@hillsborotx.org or 254-582-7385.</div>\n</div>\n</div>\n</div>\n\n<div class="x11i5rnm xat24cr x1mh8g0r x1vvkbs xtlvy1s x126k92a" style="margin: 0.5em 0px 0px\; overflow-wrap: break-word\; white-space-collapse: preserve\; font-family: Roboto\, Helvetica\, Arial\, sans-serif\; color: rgb(5\, 5\, 5)\; font-size: 15px\;">\n<div dir="auto" style="font-family: inherit\;"><br />\n<br />\n&nbsp\;</div>\n</div>\n
LOCATION:
UID:e.1103.12043
SEQUENCE:3
DTSTAMP:20260421T193515Z
URL:https://business.hillsborochamber.org/events/details/knit-crochet-group-hillsboro-city-library-11-06-2028-12043
END:VEVENT

END:VCALENDAR
