BEGIN:VCALENDAR
VERSION:2.0
PRODID:-//ChamberMaster//Event Calendar 2.0//EN
METHOD:PUBLISH
X-PUBLISHED-TTL:P3D
REFRESH-INTERVAL:P3D
CALSCALE:GREGORIAN
BEGIN:VEVENT
DTSTART:20260117T210000Z
DTEND:20260118T000000Z
X-MICROSOFT-CDO-ALLDAYEVENT:FALSE
SUMMARY:Pop-Up Sidewalk Event At Bearded Wheat Distillery
DESCRIPTION:Pop-up Sidewalk Event at Bearded Wheat Distillery\n\nSaturday\, January 17th 2026 from 3-6pm!\n\n \n\nWhitney's HomeStyle - Sourdough\, Baked Goods\, & More\n\nPam Boehm Book Signing\n\n\n\nHazy Bull BBQ will be ready to serve at 5pm!
X-ALT-DESC;FMTTYPE=text/html:<div background-color:="" color:="" font-size:="" segoe="" ui="">\n<div dir="auto"><strong>Pop-up Sidewalk Event at Bearded Wheat Distillery<br />\nSaturday\, January 17th 2026 from 3-6pm!</strong><br />\n&nbsp\;</div>\n\n<div dir="auto">Whitney&rsquo\;s HomeStyle - Sourdough\, Baked Goods\, &amp\; More</div>\n\n<div dir="auto">Pam Boehm Book Signing</div>\n</div>\n\n<div background-color:="" color:="" font-size:="" segoe="" ui="">\n<div dir="auto">Hazy Bull BBQ will be ready to serve at 5pm!</div>\n</div>\n
LOCATION:
UID:e.1103.19165
SEQUENCE:3
DTSTAMP:20260419T124706Z
URL:https://business.hillsborochamber.org/events/details/pop-up-sidewalk-event-at-bearded-wheat-distillery-19165
END:VEVENT

END:VCALENDAR
