BEGIN:VCALENDAR
VERSION:2.0
PRODID:-//ChamberMaster//Event Calendar 2.0//EN
METHOD:PUBLISH
X-PUBLISHED-TTL:P3D
REFRESH-INTERVAL:P3D
CALSCALE:GREGORIAN
BEGIN:VEVENT
DTSTART:20260322T180000Z
DTEND:20260322T210000Z
X-MICROSOFT-CDO-ALLDAYEVENT:FALSE
SUMMARY:The Place at Lake Whitney Spring Fling Egg Hunt
DESCRIPTION:Spring Fling Egg Hunt Party  Over 3000 eggs!   50/50 Raffle Music Game Food  Vendors $20
X-ALT-DESC;FMTTYPE=text/html:Spring Fling Egg Hunt Party&nbsp\; Over 3000 eggs!&nbsp\; &nbsp\;50/50 Raffle Music Game Food&nbsp\; Vendors $20
LOCATION:
UID:e.1103.19632
SEQUENCE:3
DTSTAMP:20260419T154507Z
URL:https://business.hillsborochamber.org/events/details/the-place-at-lake-whitney-spring-fling-egg-hunt-19632
END:VEVENT

END:VCALENDAR
