BEGIN:VCALENDAR
VERSION:2.0
PRODID:-//ChamberMaster//Event Calendar 2.0//EN
METHOD:PUBLISH
X-PUBLISHED-TTL:P3D
REFRESH-INTERVAL:P3D
CALSCALE:GREGORIAN
BEGIN:VEVENT
DTSTART:20260424T140000Z
DTEND:20260424T210000Z
X-MICROSOFT-CDO-ALLDAYEVENT:FALSE
SUMMARY:Three Day Estate Sale in Hillsboro Texas
DESCRIPTION:Three Day Estate Sale in Hillsboro\, Texas  April 23\, 24 & 25 2026 (Thursday through Saturday) at 1106 East Franklin Street in Hillsboro\, Texas \n\n\n\n\nThursday Door open by 9AM and close 5PM\n\nFriday Doors will open by 9AM and close 4PM\n\nHalf Price Saturday 9AM to NOON\n\n\n\n\nThose Three Sisters estate services provide a dignified and respectful venue to disperse items from living estates as well as aiding families in clearing the items from a home after the death of a loved one.  Call to inquire  (254) 337-0233
X-ALT-DESC;FMTTYPE=text/html:<div background-color:="" font-size:="" id="cc-m-14790824129" noto="">\n<h3 color:="" font-size:="" id="cc-m-header-14790824129" julius="" line-height:="" margin:="" sans="" text-transform:=""><strong>Three Day Estate Sale in Hillsboro\, Texas&nbsp\; April 23\, 24 &amp\; 25 2026 (Thursday through Saturday) at&nbsp\;1106 East Franklin Street in Hillsboro\, Texas&nbsp\;</strong></h3>\n</div>\n\n<div background-color:="" font-size:="" id="cc-m-14790824229" noto="">\n<div id="cc-m-14790824529">\n<h3 id="cc-m-header-14790824529">Thursday Door open by 9AM and close 5PM<br />\nFriday&nbsp\;Doors will open by 9AM and close 4PM<br />\nHalf Price Saturday 9AM to NOON</h3>\n</div>\n</div>\n\n<div background-color:="" font-size:="" id="cc-m-14790824329" noto="">\n<p font-size:="" helvetica="" padding:="" unicode-bidi:=""><strong>Those Three Sisters estate services provide a dignified and respectful venue to disperse items from living estates as well as aiding families in clearing the items from a home after the death of a loved one.&nbsp\; Call to inquire&nbsp\;&nbsp\;(254) 337-0233</strong></p>\n\n<div class="x9f619 x1n2onr6 x1ja2u2z x78zum5 xdt5ytf x2lah0s x193iq5w xp6pnuw x160xiiu" color:="" font-size:="" segoe="" style="z-index: 0\; position: relative\; flex-shrink: 0\; display: flex\; box-sizing: border-box\; flex-direction: column\; max-width: 100%\; font-family: " ui="">&nbsp\;</div>\n</div>\n
LOCATION:
UID:e.1103.20016
SEQUENCE:3
DTSTAMP:20260419T171401Z
URL:https://business.hillsborochamber.org/events/details/three-day-estate-sale-in-hillsboro-texas-04-24-2026-20016
END:VEVENT

END:VCALENDAR
