BEGIN:VCALENDAR
VERSION:2.0
PRODID:-//ChamberMaster//Event Calendar 2.0//EN
METHOD:PUBLISH
X-PUBLISHED-TTL:P3D
REFRESH-INTERVAL:P3D
CALSCALE:GREGORIAN
BEGIN:VEVENT
DTSTART:20260425T140000Z
DTEND:20260425T170000Z
X-MICROSOFT-CDO-ALLDAYEVENT:FALSE
SUMMARY:Three Day Estate Sale in Hillsboro Texas
DESCRIPTION:Three Day Estate Sale in Hillsboro\, Texas  April 23\, 24 & 25 2026 (Friday through Sunday) at 1106 East Franklin Street in Hillsboro\, Texas \n\n\n\n\nThursday Doors will open promptly at 9AM (Closing 5PM)\n\n\n\n\nFriday Doors will open by 9AM (Closing 4PM)\n\nHalf-Price Saturday Doors will open promptly at 9AM (Closing Noon)\n\n\n\n \n\nThose Three Sisters estate services provide a dignified and respectful venue to disperse items from living estates as well as aiding families in clearing the items from a home after the death of a loved one.  Call to inquire  (254) 337-0233
X-ALT-DESC;FMTTYPE=text/html:<div background-color:="" font-size:="" id="cc-m-14790824129" noto="">\n<h3 color:="" font-size:="" id="cc-m-header-14790824129" julius="" line-height:="" margin:="" sans="" text-transform:=""><strong>Three Day Estate Sale in Hillsboro\, Texas&nbsp\; April 23\, 24 &amp\; 25 2026 (Friday through Sunday) at&nbsp\;1106 East Franklin Street in Hillsboro\, Texas&nbsp\;</strong></h3>\n</div>\n\n<div background-color:="" font-size:="" id="cc-m-14790824229" noto="">\n<div id="cc-m-14790824529">\n<h3 id="cc-m-header-14790824529">Thursday&nbsp\;Doors will open promptly at 9AM&nbsp\;(Closing 5PM)</h3>\n</div>\n</div>\n\n<div background-color:="" font-size:="" id="cc-m-14790824329" noto="">\n<p font-size:="" helvetica="" padding:="" unicode-bidi:="">Friday&nbsp\;Doors will open by 9AM&nbsp\;(Closing 4PM)</p>\n\n<p font-size:="" helvetica="" padding:="" unicode-bidi:="">Half-Price Saturday&nbsp\;Doors will open promptly at&nbsp\;9AM&nbsp\;(Closing Noon)<br />\n<br />\n&nbsp\;</p>\n\n<div class="x9f619 x1n2onr6 x1ja2u2z x78zum5 xdt5ytf x2lah0s x193iq5w xz9dl7a xp6pnuw x160xiiu" style="z-index: 0\; position: relative\; flex-shrink: 0\; display: flex\; box-sizing: border-box\; flex-direction: column\; max-width: 100%\; padding-top: 12px\; font-family: &quot\;Segoe UI Historic&quot\;\, &quot\;Segoe UI&quot\;\, Helvetica\, Arial\, sans-serif\; color: rgb(28\, 30\, 33)\; font-size: 12px\;"><span class="x193iq5w xeuugli x13faqbe x1vvkbs x1xmvt09 x1lliihq x1s928wv xhkezso x1gmr53x x1cpjm7i x1fgarty x1943h6x xudqn12 x3x7a5m x6prxxf xvq8zen xo1l8bm xzsf02u" dir="auto" style="word-break: break-word\; display: block\; overflow-wrap: break-word\; font-family: inherit\; font-size: 0.9375rem\; line-height: 1.3333\; color: rgb(8\, 8\, 9)\; max-width: 100%\; min-width: 0px\;"><strong>Those Three Sisters estate services provide a dignified and respectful venue to disperse items from living estates as well as aiding families in clearing the items from a home after the death of a loved one.&nbsp\; Call to inquire&nbsp\;&nbsp\;<span style="color: rgb(28\, 30\, 33)\; font-size: 12px\;">(254) 337-0233</span></strong></span></div>\n\n<div class="x9f619 x1n2onr6 x1ja2u2z x78zum5 xdt5ytf x2lah0s x193iq5w xp6pnuw x160xiiu" style="z-index: 0\; position: relative\; flex-shrink: 0\; display: flex\; box-sizing: border-box\; flex-direction: column\; max-width: 100%\; font-family: &quot\;Segoe UI Historic&quot\;\, &quot\;Segoe UI&quot\;\, Helvetica\, Arial\, sans-serif\; color: rgb(28\, 30\, 33)\; font-size: 12px\;">&nbsp\;</div>\n</div>\n
LOCATION:
UID:e.1103.20017
SEQUENCE:3
DTSTAMP:20260419T171445Z
URL:https://business.hillsborochamber.org/events/details/three-day-estate-sale-in-hillsboro-texas-04-25-2026-20017
END:VEVENT

END:VCALENDAR
