BEGIN:VCALENDAR
VERSION:2.0
PRODID:-//ChamberMaster//Event Calendar 2.0//EN
METHOD:PUBLISH
X-PUBLISHED-TTL:P3D
REFRESH-INTERVAL:P3D
CALSCALE:GREGORIAN
BEGIN:VEVENT
DTSTART:20250628T210000Z
DTEND:20250628T223000Z
X-MICROSOFT-CDO-ALLDAYEVENT:FALSE
SUMMARY:Tractor Supply Pet Vet Vaccination Clinic
DESCRIPTION:Pet Vet Vaccination schedule for Hillsboro TX\n\n	Saturday\, May 03rd:4:00 pm - 5:30 pm\n	Saturday\, May 31st:4:00 pm - 5:30 pm\n	Saturday\, June 28th:4:00 pm - 5:30 pm\n	Saturday\, July 26th:4:00 pm - 5:30 pm\n	Saturday\, August 23rd:4:00 pm - 5:30 pm
X-ALT-DESC;FMTTYPE=text/html:Pet Vet Vaccination schedule for Hillsboro TX\n<ul class="font-weight-normal" style="box-sizing: border-box\; margin-top: 0px\; margin-bottom: 0px\; list-style-type: none\; display: flex\; -webkit-box-direction: normal\; padding-left: 0px\; -webkit-box-orient: vertical\; flex-direction: column\; -webkit-box-pack: start\; justify-content: flex-start\; -webkit-box-align: start\; align-items: flex-start\; color: rgb(34\, 34\, 34)\; font-family: Roboto\, sans-serif\; font-size: 14px\; letter-spacing: 0.13132px\; background-color: rgb(255\, 255\, 255)\;">\n	<li itemprop="openingHours" style="box-sizing: border-box\; padding: 0px 0px 2px\; display: flex\; -webkit-box-direction: normal\; -webkit-box-flex: 1\; flex: 1 1 auto\; width: 305.75px\; -webkit-box-orient: horizontal\; flex-direction: row\;"><span class="store-date " style="box-sizing: border-box\; width: 168.156px\; display: flex\; flex-direction: row\; justify-content: flex-start\;">Saturday\, May 03rd:</span><span class="store-time " style="box-sizing: border-box\; display: flex\; flex-direction: row\; gap: 5px\; justify-content: flex-end\; width: 137.578px\;">4:00 pm - 5:30 pm</span></li>\n	<li itemprop="openingHours" style="box-sizing: border-box\; padding: 2px 0px\; display: flex\; -webkit-box-direction: normal\; -webkit-box-flex: 1\; flex: 1 1 auto\; width: 305.75px\; -webkit-box-orient: horizontal\; flex-direction: row\;"><span class="store-date " style="box-sizing: border-box\; width: 168.156px\; display: flex\; flex-direction: row\; justify-content: flex-start\;">Saturday\, May 31st:</span><span class="store-time " style="box-sizing: border-box\; display: flex\; flex-direction: row\; gap: 5px\; justify-content: flex-end\; width: 137.578px\;">4:00 pm - 5:30 pm</span></li>\n	<li itemprop="openingHours" style="box-sizing: border-box\; padding: 2px 0px\; display: flex\; -webkit-box-direction: normal\; -webkit-box-flex: 1\; flex: 1 1 auto\; width: 305.75px\; -webkit-box-orient: horizontal\; flex-direction: row\;"><span class="store-date " style="box-sizing: border-box\; width: 168.156px\; display: flex\; flex-direction: row\; justify-content: flex-start\;">Saturday\, June 28th:</span><span class="store-time " style="box-sizing: border-box\; display: flex\; flex-direction: row\; gap: 5px\; justify-content: flex-end\; width: 137.578px\;">4:00 pm - 5:30 pm</span></li>\n	<li itemprop="openingHours" style="box-sizing: border-box\; padding: 2px 0px\; display: flex\; -webkit-box-direction: normal\; -webkit-box-flex: 1\; flex: 1 1 auto\; width: 305.75px\; -webkit-box-orient: horizontal\; flex-direction: row\;"><span class="store-date " style="box-sizing: border-box\; width: 168.156px\; display: flex\; flex-direction: row\; justify-content: flex-start\;">Saturday\, July 26th:</span><span class="store-time " style="box-sizing: border-box\; display: flex\; flex-direction: row\; gap: 5px\; justify-content: flex-end\; width: 137.578px\;">4:00 pm - 5:30 pm</span></li>\n	<li itemprop="openingHours" style="box-sizing: border-box\; padding: 2px 0px 0px\; display: flex\; -webkit-box-direction: normal\; -webkit-box-flex: 1\; flex: 1 1 auto\; width: 305.75px\; -webkit-box-orient: horizontal\; flex-direction: row\; border-bottom: 0px\;"><span class="store-date " style="box-sizing: border-box\; width: 168.156px\; display: flex\; flex-direction: row\; justify-content: flex-start\;">Saturday\, August 23rd:</span><span class="store-time " style="box-sizing: border-box\; display: flex\; flex-direction: row\; gap: 5px\; justify-content: flex-end\; width: 137.578px\;">4:00 pm - 5:30 pm</span></li>\n</ul>\n
LOCATION:Tractor Supply 307 Coke St Hillsboro TX (254) 580-0300
UID:e.1103.13897
SEQUENCE:3
DTSTAMP:20260422T062258Z
URL:https://business.hillsborochamber.org/events/details/tractor-supply-pet-vet-vaccination-clinic-13897
END:VEVENT

END:VCALENDAR
